BEGIN:VCALENDAR
VERSION:2.0
PRODID:-//Camposol Online - ECPv4.7.4//NONSGML v1.0//EN
CALSCALE:GREGORIAN
METHOD:PUBLISH
X-WR-CALNAME:Camposol Online
X-ORIGINAL-URL:http://camposolonline.com
X-WR-CALDESC:Events for Camposol Online
BEGIN:VEVENT
DTSTART;TZID=Europe/Madrid:20180119T193000
DTEND;TZID=Europe/Madrid:20180119T193000
DTSTAMP:20260423T171607
CREATED:20180112T062352Z
LAST-MODIFIED:20180115T202458Z
UID:5705-1516390200-1516390200@camposolonline.com
SUMMARY:1920s Evening @ The Diner & Bar
DESCRIPTION:The Diner & Bar are holding a 1920s evening on 19th January 2018 from 19:30 to celebrate their 1st birthday. \nFancy dress is optional\, and there will be prizes for the best dressed. There will be a light supper available for pre-booked tables. \n\n\n	Related\n
URL:http://camposolonline.com/event/1920s-evening-the-diner-bar-190118/
LOCATION:The Diner & Bar\, Centro Comercial\, Urbanización Camposol Sector B\, El Saladillo\, 30875 Mazarrón\, Murcia\, Spain
END:VEVENT
END:VCALENDAR