BEGIN:VCALENDAR
VERSION:2.0
PRODID:-//Camposol Online - ECPv4.7.4//NONSGML v1.0//EN
CALSCALE:GREGORIAN
METHOD:PUBLISH
X-WR-CALNAME:Camposol Online
X-ORIGINAL-URL:http://camposolonline.com
X-WR-CALDESC:Events for Camposol Online
BEGIN:VEVENT
DTSTART;TZID=Europe/Madrid:20171104T213000
DTEND;TZID=Europe/Madrid:20171104T213000
DTSTAMP:20260423T192056
CREATED:20171013T051513Z
LAST-MODIFIED:20171013T053534Z
UID:4292-1509831000-1509831000@camposolonline.com
SUMMARY:ABBA Elite @ Oscar's Bar
DESCRIPTION:Benidorm’s own ABBA Elite are performing at Oscar’s Bar on 4th November 2017. Tickets cost 5 euros. \n\n\n	Related\n
URL:http://camposolonline.com/event/abba-elite-oscars-bar-041117/
LOCATION:Oscar’s Bar\, Centro Comercial\, Urbanización Camposol Sector B\, El Saladillo\, 30875 Mazarrón\, Murcia\, Spain
END:VEVENT
END:VCALENDAR