BEGIN:VCALENDAR
VERSION:2.0
PRODID:-//Camposol Online - ECPv4.7.4//NONSGML v1.0//EN
CALSCALE:GREGORIAN
METHOD:PUBLISH
X-WR-CALNAME:Camposol Online
X-ORIGINAL-URL:http://camposolonline.com
X-WR-CALDESC:Events for Camposol Online
BEGIN:VEVENT
DTSTART;TZID=Europe/Madrid:20171111T210000
DTEND;TZID=Europe/Madrid:20171111T210000
DTSTAMP:20260423T210522
CREATED:20171105T065934Z
LAST-MODIFIED:20171105T073857Z
UID:4810-1510434000-1510434000@camposolonline.com
SUMMARY:ABBA-Solutely Fabulous @ Bar Med
DESCRIPTION:ABBA-Solutely Fabulous are performing at Bar Med on 11th November 2017 from 21:00. \n\n\n	Related\n
URL:http://camposolonline.com/event/abba-solutely-fabulous-bar-med-111117/
LOCATION:Bar Med\, Avenida de Cabo Cope\, El Alamillo\, Puerto de Mazarrón\, 30860 Mazarrón\, Murcia\, Spain
END:VEVENT
END:VCALENDAR