BEGIN:VCALENDAR
VERSION:2.0
PRODID:-//Camposol Online - ECPv4.7.4//NONSGML v1.0//EN
CALSCALE:GREGORIAN
METHOD:PUBLISH
X-WR-CALNAME:Camposol Online
X-ORIGINAL-URL:http://camposolonline.com
X-WR-CALDESC:Events for Camposol Online
BEGIN:VEVENT
DTSTART;TZID=Europe/Madrid:20180217T210000
DTEND;TZID=Europe/Madrid:20180217T210000
DTSTAMP:20260423T233958
CREATED:20180211T205120Z
LAST-MODIFIED:20180211T205120Z
UID:6173-1518901200-1518901200@camposolonline.com
SUMMARY:Andy Maloney @ Vista Sports & Café Bar
DESCRIPTION:Andy Maloney is performing at Vista Sports & Café Bar on 17th February 2018 from 21:00. \n\n\n	Related\n
URL:http://camposolonline.com/event/andy-maloney-vista-sports-cafe-bar-170218/
LOCATION:Vista Sports & Café Bar\, Centro Comercial\, Urbanización Camposol Sector A\, El Saladillo\, 30875 Mazarrón\, Murcia\, Spain
END:VEVENT
END:VCALENDAR