BEGIN:VCALENDAR
VERSION:2.0
PRODID:-//Camposol Online - ECPv4.7.4//NONSGML v1.0//EN
CALSCALE:GREGORIAN
METHOD:PUBLISH
X-WR-CALNAME:Camposol Online
X-ORIGINAL-URL:http://camposolonline.com
X-WR-CALDESC:Events for Camposol Online
BEGIN:VEVENT
DTSTART;TZID=Europe/Madrid:20180120T210000
DTEND;TZID=Europe/Madrid:20180120T210000
DTSTAMP:20260423T183420
CREATED:20180103T062645Z
LAST-MODIFIED:20180114T193744Z
UID:5511-1516482000-1516482000@camposolonline.com
SUMMARY:Angie Lang @ Bar Med
DESCRIPTION:Angie Lang is performing a tribute to Celine Dion at Bar Med on 20th January 2018 from 21:00. \n\n\n	Related\n
URL:http://camposolonline.com/event/angie-lang-bar-med-200118/
LOCATION:Bar Med\, Avenida de Cabo Cope\, El Alamillo\, Puerto de Mazarrón\, 30860 Mazarrón\, Murcia\, Spain
END:VEVENT
END:VCALENDAR