BEGIN:VCALENDAR
VERSION:2.0
PRODID:-//Camposol Online - ECPv4.7.4//NONSGML v1.0//EN
CALSCALE:GREGORIAN
METHOD:PUBLISH
X-WR-CALNAME:Camposol Online
X-ORIGINAL-URL:http://camposolonline.com
X-WR-CALDESC:Events for Camposol Online
BEGIN:VEVENT
DTSTART;TZID=Europe/Madrid:20171111T110000
DTEND;TZID=Europe/Madrid:20171111T110000
DTSTAMP:20260423T195154
CREATED:20170826T201446Z
LAST-MODIFIED:20170826T202845Z
UID:2895-1510398000-1510398000@camposolonline.com
SUMMARY:Artisan Fayre @ Mesón Mariano
DESCRIPTION:Little Starfish Dog Rescue are holding an artisan fayre on 11th November 2017 at Mesón Mariano. \n\n\n	Related\n
URL:http://camposolonline.com/event/artisan-fayre-little-starfish-2017/
LOCATION:Mesón Mariano\, Calle Madrid S/N\, Urbanización Camposol Sector A\, El Saladillo\, 30875 Mazarrón\, Murcia\, Spain
END:VEVENT
END:VCALENDAR