BEGIN:VCALENDAR
VERSION:2.0
PRODID:-//Camposol Online - ECPv4.7.4//NONSGML v1.0//EN
CALSCALE:GREGORIAN
METHOD:PUBLISH
X-WR-CALNAME:Camposol Online
X-ORIGINAL-URL:http://camposolonline.com
X-WR-CALDESC:Events for Camposol Online
BEGIN:VEVENT
DTSTART;TZID=Europe/Madrid:20180428T193000
DTEND;TZID=Europe/Madrid:20180428T193000
DTSTAMP:20260423T171425
CREATED:20180313T203656Z
LAST-MODIFIED:20180313T203656Z
UID:6405-1524943800-1524943800@camposolonline.com
SUMMARY:Barrington Dubois @ The Diner & Bar
DESCRIPTION:Barrington is performing at The Diner & Bar on 28th April 2018 from 19:30. Tickets cost 5 euros and include a basket meal. 1959/60’s fancy dress optional. \n\n\n	Related\n
URL:http://camposolonline.com/event/barrington-diner-bar-280418/
LOCATION:The Diner & Bar\, Centro Comercial\, Urbanización Camposol Sector B\, El Saladillo\, 30875 Mazarrón\, Murcia\, Spain
END:VEVENT
END:VCALENDAR