BEGIN:VCALENDAR
VERSION:2.0
PRODID:-//Camposol Online - ECPv4.7.4//NONSGML v1.0//EN
CALSCALE:GREGORIAN
METHOD:PUBLISH
X-WR-CALNAME:Camposol Online
X-ORIGINAL-URL:http://camposolonline.com
X-WR-CALDESC:Events for Camposol Online
BEGIN:VEVENT
DTSTART;TZID=Europe/Madrid:20171007T190000
DTEND;TZID=Europe/Madrid:20171007T190000
DTSTAMP:20260423T204636
CREATED:20170926T053817Z
LAST-MODIFIED:20170926T054035Z
UID:3706-1507402800-1507402800@camposolonline.com
SUMMARY:Barrington Dubois & DJ Weeto @ Yoga Shala
DESCRIPTION:Barrington Dubois and DJ Weeto are performing for charity at Yoga Shala on 7th October 2017 from 19:00. Tickets cost 6 euro. \n\n\n	Related\n
URL:http://camposolonline.com/event/barrington-dubois-dj-weeto-yoga-shala/
LOCATION:Yoga Shala\, The Beach House Calle Las Colonias 18\, Isla Plana\, 30868 Mazarrón\, Murcia\, Spain
END:VEVENT
END:VCALENDAR