BEGIN:VCALENDAR
VERSION:2.0
PRODID:-//Camposol Online - ECPv4.7.4//NONSGML v1.0//EN
CALSCALE:GREGORIAN
METHOD:PUBLISH
X-WR-CALNAME:Camposol Online
X-ORIGINAL-URL:http://camposolonline.com
X-WR-CALDESC:Events for Camposol Online
BEGIN:VEVENT
DTSTART;VALUE=DATE:20171214
DTEND;VALUE=DATE:20171215
DTSTAMP:20260423T225459
CREATED:20171105T082156Z
LAST-MODIFIED:20171105T082156Z
UID:4836-1513209600-1513295999@camposolonline.com
SUMMARY:Camposol Fiesta Committee Excursion @ Murcia Christmas Lights
DESCRIPTION:Join Camposol Fiesta Committee on an excursion to see Murcia’s Christmas lights on 14th December 2017. \nTickets cost 12 euros and include return coach travel. They can be purchased from the committee’s stall at the market every Friday between 10:30 and 12:30\, or by emailing camposolfiesta2017@gmail.com. \n\n\n	Related\n
URL:http://camposolonline.com/event/camposol-fiesta-committee-excursion-murcia-christmas-lights-141217/
END:VEVENT
END:VCALENDAR