BEGIN:VCALENDAR
VERSION:2.0
PRODID:-//Camposol Online - ECPv4.7.4//NONSGML v1.0//EN
CALSCALE:GREGORIAN
METHOD:PUBLISH
X-WR-CALNAME:Camposol Online
X-ORIGINAL-URL:http://camposolonline.com
X-WR-CALDESC:Events for Camposol Online
BEGIN:VEVENT
DTSTART;TZID=Europe/Madrid:20180424T190000
DTEND;TZID=Europe/Madrid:20180424T190000
DTSTAMP:20260423T171452
CREATED:20180329T185611Z
LAST-MODIFIED:20180329T185611Z
UID:6662-1524596400-1524596400@camposolonline.com
SUMMARY:Camposol Fiesta Committee’s Quiz & Supper
DESCRIPTION:Camposol Fiesta Committee are holding a quiz and supper evening at the Black Bull on 24th April from 19:00. \nTickets cost 5 euros and include a supper of sausage\, mash\, peas and onion gravy. Reserve your tickets by emailing camposolfiesta2017@gmail.com\, or visit the committee’s Friday stall on Sector B between 10:30 and 12:30. \n\n\n	Related\n
URL:http://camposolonline.com/event/camposol-fiesta-committees-quiz-supper/
LOCATION:Black Bull\, Centro Comercial\, Urbanización Camposol Sector B\, El Saladillo\, 30875 Mazarrón\, Murcia\, Spain
END:VEVENT
END:VCALENDAR