BEGIN:VCALENDAR
VERSION:2.0
PRODID:-//Camposol Online - ECPv4.7.4//NONSGML v1.0//EN
CALSCALE:GREGORIAN
METHOD:PUBLISH
X-WR-CALNAME:Camposol Online
X-ORIGINAL-URL:http://camposolonline.com
X-WR-CALDESC:Events for Camposol Online
BEGIN:VEVENT
DTSTART;TZID=Europe/Madrid:20171027T193000
DTEND;TZID=Europe/Madrid:20171027T193000
DTSTAMP:20260423T165833
CREATED:20171004T194020Z
LAST-MODIFIED:20171004T194020Z
UID:4101-1509132600-1509132600@camposolonline.com
SUMMARY:Camposol Golf Association's Charity Quiz @ The Club House
DESCRIPTION:Camposol Golf Association are holding a charity quiz in aid of FAST\, MABS Cancer Support Group and Forget Me Not at The Club House on 27th October 2017. \nThere are sign up sheets in the changing rooms or at the bar in The Club House. \n\n\n	Related\n
URL:http://camposolonline.com/event/camposol-golf-associations-charity-quiz-club-house-271017/
LOCATION:The Club House\, Camposol Club de Golf\, Urbanización Camposol Sector C\, El Saladillo\, 30875 Mazarrón\, Murcia\, Spain
END:VEVENT
END:VCALENDAR