BEGIN:VCALENDAR
VERSION:2.0
PRODID:-//Camposol Online - ECPv4.7.4//NONSGML v1.0//EN
CALSCALE:GREGORIAN
METHOD:PUBLISH
X-WR-CALNAME:Camposol Online
X-ORIGINAL-URL:http://camposolonline.com
X-WR-CALDESC:Events for Camposol Online
BEGIN:VEVENT
DTSTART;TZID=Europe/Madrid:20180210T210000
DTEND;TZID=Europe/Madrid:20180210T210000
DTSTAMP:20260424T160706
CREATED:20180211T203650Z
LAST-MODIFIED:20180211T204332Z
UID:6163-1518296400-1518296400@camposolonline.com
SUMMARY:Carolynn May @ The Club House
DESCRIPTION:Carolynn May is performing at The Club House on 10th February 2018 from 21:00. \n\n\n	Related\n
URL:http://camposolonline.com/event/carolynn-may-club-house-100218/
LOCATION:The Club House\, Camposol Club de Golf\, Urbanización Camposol Sector C\, El Saladillo\, 30875 Mazarrón\, Murcia\, Spain
END:VEVENT
END:VCALENDAR