BEGIN:VCALENDAR
VERSION:2.0
PRODID:-//Camposol Online - ECPv4.7.4//NONSGML v1.0//EN
CALSCALE:GREGORIAN
METHOD:PUBLISH
X-WR-CALNAME:Camposol Online
X-ORIGINAL-URL:http://camposolonline.com
X-WR-CALDESC:Events for Camposol Online
BEGIN:VEVENT
DTSTART;TZID=Europe/Madrid:20180526T193000
DTEND;TZID=Europe/Madrid:20180526T193000
DTSTAMP:20260423T205412
CREATED:20180419T192048Z
LAST-MODIFIED:20180419T192048Z
UID:6770-1527363000-1527363000@camposolonline.com
SUMMARY:A Tribute to the Fab Four @ The Diner & Bar
DESCRIPTION:Camposol District Independence Party (CDIP) presents a tribute to the Fab Four with DJ Carl Thomas at The Diner & Bar on 26th May 2018 from 19:30. \nTickets cost 7 euros\, and include a basket meal. Tickets are available from The Diner & Bar\, by emailing barcol.colquitt@aol.com or calling 968 972 317. \n\n\n	Related\n
URL:http://camposolonline.com/event/cdip-tribute-fab-four-diner-bar-260518/
LOCATION:The Diner & Bar\, Centro Comercial\, Urbanización Camposol Sector B\, El Saladillo\, 30875 Mazarrón\, Murcia\, Spain
END:VEVENT
END:VCALENDAR