BEGIN:VCALENDAR
VERSION:2.0
PRODID:-//Camposol Online - ECPv4.7.4//NONSGML v1.0//EN
CALSCALE:GREGORIAN
METHOD:PUBLISH
X-WR-CALNAME:Camposol Online
X-ORIGINAL-URL:http://camposolonline.com
X-WR-CALDESC:Events for Camposol Online
BEGIN:VEVENT
DTSTART;TZID=Europe/Madrid:20171202T213000
DTEND;TZID=Europe/Madrid:20171202T213000
DTSTAMP:20260423T210837
CREATED:20171013T051952Z
LAST-MODIFIED:20171013T051952Z
UID:4294-1512250200-1512250200@camposolonline.com
SUMMARY:Chess @ Oscar's Bar
DESCRIPTION:Chess are performing a tribute to Queen at Oscar’s Bar on 2nd December 2017. Tickets cost 10 euros per person. \n\n\n	Related\n
URL:http://camposolonline.com/event/chess-oscars-bar-021217/
LOCATION:Oscar’s Bar\, Centro Comercial\, Urbanización Camposol Sector B\, El Saladillo\, 30875 Mazarrón\, Murcia\, Spain
END:VEVENT
END:VCALENDAR