BEGIN:VCALENDAR
VERSION:2.0
PRODID:-//Camposol Online - ECPv4.7.4//NONSGML v1.0//EN
CALSCALE:GREGORIAN
METHOD:PUBLISH
X-WR-CALNAME:Camposol Online
X-ORIGINAL-URL:http://camposolonline.com
X-WR-CALDESC:Events for Camposol Online
BEGIN:VEVENT
DTSTART;TZID=Europe/Madrid:20171215T180000
DTEND;TZID=Europe/Madrid:20171215T180000
DTSTAMP:20260423T183656
CREATED:20171202T081525Z
LAST-MODIFIED:20171202T081525Z
UID:5277-1513360800-1513360800@camposolonline.com
SUMMARY:Christmas Carols @ Urb. Camposol Sector B
DESCRIPTION:Wellspring Victory Church will be singing Christmas carols at Sector B’s Centro Comercial on 15th December 2017 from 18:00. \n\n\n	Related\n
URL:http://camposolonline.com/event/christmas-carols-urb-camposol-sector-b-2017/
LOCATION:Camposol\, Urbanización Camposol\, El Saladillo\, 30875 Mazarrón\, Murcia\, Spain
END:VEVENT
END:VCALENDAR