BEGIN:VCALENDAR
VERSION:2.0
PRODID:-//Camposol Online - ECPv4.7.4//NONSGML v1.0//EN
CALSCALE:GREGORIAN
METHOD:PUBLISH
X-WR-CALNAME:Camposol Online
X-ORIGINAL-URL:http://camposolonline.com
X-WR-CALDESC:Events for Camposol Online
BEGIN:VEVENT
DTSTART;TZID=Europe/Madrid:20171219T180000
DTEND;TZID=Europe/Madrid:20171219T180000
DTSTAMP:20260424T084024
CREATED:20171202T080917Z
LAST-MODIFIED:20171202T080917Z
UID:5273-1513706400-1513706400@camposolonline.com
SUMMARY:Christmas Carols @ Urb. Camposol Sector D
DESCRIPTION:Wellspring Victory Church will be carol singing at the Triangle\, Avenida Los Covachos\, on Sector D on 19th December 2017 from 18:00. \nEntrance is free\, and there will be mulled wine and mince pies for all. \n\n\n	Related\n
URL:http://camposolonline.com/event/christmas-carols-urb-camposol-sector-d-2017/
LOCATION:Camposol\, Urbanización Camposol\, El Saladillo\, 30875 Mazarrón\, Murcia\, Spain
END:VEVENT
END:VCALENDAR