BEGIN:VCALENDAR
VERSION:2.0
PRODID:-//Camposol Online - ECPv4.7.4//NONSGML v1.0//EN
CALSCALE:GREGORIAN
METHOD:PUBLISH
X-WR-CALNAME:Camposol Online
X-ORIGINAL-URL:http://camposolonline.com
X-WR-CALDESC:Events for Camposol Online
BEGIN:VEVENT
DTSTART;TZID=Europe/Madrid:20171210T170000
DTEND;TZID=Europe/Madrid:20171210T200000
DTSTAMP:20260423T171706
CREATED:20171112T204417Z
LAST-MODIFIED:20171112T204417Z
UID:4930-1512925200-1512936000@camposolonline.com
SUMMARY:Christmas Celebration @ Mazarrón Country Club
DESCRIPTION:Celebrate Christmas on the Paseo at Mazarrón Country Club on 10th December 2017 between 17:00 and 20:00. \nThere will be Christmas carols\, mulled wine\, mince pies\, a raffle in aid of Forget Me Not and a visit from Father Christmas himself. \n\n\n	Related\n
URL:http://camposolonline.com/event/christmas-celebration-mazarron-country-club-101217/
LOCATION:Mazarrón Country Club\, 30879 Mazarrón\, Murcia\, Spain
END:VEVENT
END:VCALENDAR