BEGIN:VCALENDAR
VERSION:2.0
PRODID:-//Camposol Online - ECPv4.7.4//NONSGML v1.0//EN
CALSCALE:GREGORIAN
METHOD:PUBLISH
X-WR-CALNAME:Camposol Online
X-ORIGINAL-URL:http://camposolonline.com
X-WR-CALDESC:Events for Camposol Online
BEGIN:VEVENT
DTSTART;TZID=Europe/Madrid:20171224T000000
DTEND;TZID=Europe/Madrid:20171224T000000
DTSTAMP:20260423T171703
CREATED:20171117T205736Z
LAST-MODIFIED:20171117T205736Z
UID:5001-1514073600-1514073600@camposolonline.com
SUMMARY:Christmas Eve Party @ The Condado Club
DESCRIPTION:The Condado Club are holding a Christmas Eve Party on 24th December 2017 from TBA. \nTickets cost 15 euros and include a three-course meal with live entertainment. \n\n\n	Related\n
URL:http://camposolonline.com/event/christmas-eve-party-condado-club-241217/
LOCATION:The Condado Club\, Condado de Alhama\, Carretera de Mazarrón\, km 33\, 30840 Alhama de Murcia\, Murcia\, Spain
END:VEVENT
END:VCALENDAR