BEGIN:VCALENDAR
VERSION:2.0
PRODID:-//Camposol Online - ECPv4.7.4//NONSGML v1.0//EN
CALSCALE:GREGORIAN
METHOD:PUBLISH
X-WR-CALNAME:Camposol Online
X-ORIGINAL-URL:http://camposolonline.com
X-WR-CALDESC:Events for Camposol Online
BEGIN:VEVENT
DTSTART;TZID=Europe/Madrid:20171201T200000
DTEND;TZID=Europe/Madrid:20171201T200000
DTSTAMP:20260423T171556
CREATED:20171003T192508Z
LAST-MODIFIED:20171121T064430Z
UID:4011-1512158400-1512158400@camposolonline.com
SUMMARY:Christmas Party @ Hotel Costa
DESCRIPTION:Mazarrón Country Club Residents Social Club are hosting a Christmas party on 1st December 2017 at Hotel Costa from 20:00. \nTickets cost 25 euro for members and 27 euro for non-members\, and include six starters\, main course\, dessert and coffee\, with wine\, beer soft drinks and water throughout the meal\, plus transportation to and from the venue from either Mazarrón Country Club or Camposol. There will also be a prize draw and live entertainment by Terry Jay. \nCall Ruth on 968 956 118 or Shirley on 968 956 070 to purchase tickets\, or email mccsocialclub@yahoo.co.uk \n\n\n	Related\n
URL:http://camposolonline.com/event/christmas-party-hotel-costa-011217/
LOCATION:Hotel Costa\, Travesía San Juan 6\, Mazarrón\, 30870 Mazarrón\, Murcia\, Spain
END:VEVENT
END:VCALENDAR