BEGIN:VCALENDAR
VERSION:2.0
PRODID:-//Camposol Online - ECPv4.7.4//NONSGML v1.0//EN
CALSCALE:GREGORIAN
METHOD:PUBLISH
X-WR-CALNAME:Camposol Online
X-ORIGINAL-URL:http://camposolonline.com
X-WR-CALDESC:Events for Camposol Online
BEGIN:VEVENT
DTSTART;TZID=Europe/Madrid:20171213T140000
DTEND;TZID=Europe/Madrid:20171213T170000
DTSTAMP:20260423T183722
CREATED:20171209T063808Z
LAST-MODIFIED:20171209T063808Z
UID:5350-1513173600-1513184400@camposolonline.com
SUMMARY:Christmas Party @ Tel’s Bar
DESCRIPTION:Tel’s Bar are hosting a Christmas party with Bernie Mac on 13th December 2017 between 14:00 and 17:00. \n\n\n	Related\n
URL:http://camposolonline.com/event/christmas-party-tels-bar-131217/
LOCATION:Tel’s Bar\, Centro Comercial\, Urbanización Camposol Sector A\, El Saladillo\, 30875 Mazarrón\, Murcia\, Spain
END:VEVENT
END:VCALENDAR