BEGIN:VCALENDAR
VERSION:2.0
PRODID:-//Camposol Online - ECPv4.7.4//NONSGML v1.0//EN
CALSCALE:GREGORIAN
METHOD:PUBLISH
X-WR-CALNAME:Camposol Online
X-ORIGINAL-URL:http://camposolonline.com
X-WR-CALDESC:Events for Camposol Online
BEGIN:VEVENT
DTSTART;TZID=Europe/Madrid:20171002T110000
DTEND;TZID=Europe/Madrid:20171002T110000
DTSTAMP:20260423T181729
CREATED:20170925T213903Z
LAST-MODIFIED:20170925T214018Z
UID:3691-1506942000-1506942000@camposolonline.com
SUMMARY:Coffee Morning @ Sully's Sports Bar & Grill
DESCRIPTION:Sully’s Sports Bar & Grill are holding a coffee morning with stalls on 2nd October 2017 from 11:00. \n\n\n	Related\n
URL:http://camposolonline.com/event/coffee-morning-sullys-sports-bar-grill-021017/
LOCATION:Sully’s Sports Bar & Grill\, Avenida de Cabo Cope 8\, El Alamillo\, Puerto de Mazarrón\, 30868 Mazarrón\, Murcia\, Spain
END:VEVENT
END:VCALENDAR