BEGIN:VCALENDAR
VERSION:2.0
PRODID:-//Camposol Online - ECPv4.7.4//NONSGML v1.0//EN
CALSCALE:GREGORIAN
METHOD:PUBLISH
X-WR-CALNAME:Camposol Online
X-ORIGINAL-URL:http://camposolonline.com
X-WR-CALDESC:Events for Camposol Online
BEGIN:VEVENT
DTSTART;TZID=Europe/Madrid:20171216T140000
DTEND;TZID=Europe/Madrid:20171216T170000
DTSTAMP:20260423T221751
CREATED:20171209T063518Z
LAST-MODIFIED:20171209T063518Z
UID:5347-1513432800-1513443600@camposolonline.com
SUMMARY:Colt 45 @ Tel’s Bar
DESCRIPTION:Colt 45 are performing at Tel’s Bar on 16th December 2017 between 14:00 and 17:00. \n\n\n	Related\n
URL:http://camposolonline.com/event/colt-45-tels-bar-161217/
LOCATION:Tel’s Bar\, Centro Comercial\, Urbanización Camposol Sector A\, El Saladillo\, 30875 Mazarrón\, Murcia\, Spain
END:VEVENT
END:VCALENDAR