BEGIN:VCALENDAR
VERSION:2.0
PRODID:-//Camposol Online - ECPv4.7.4//NONSGML v1.0//EN
CALSCALE:GREGORIAN
METHOD:PUBLISH
X-WR-CALNAME:Camposol Online
X-ORIGINAL-URL:http://camposolonline.com
X-WR-CALDESC:Events for Camposol Online
BEGIN:VEVENT
DTSTART;TZID=Europe/Madrid:20171001T160000
DTEND;TZID=Europe/Madrid:20171001T160000
DTSTAMP:20260423T233706
CREATED:20170822T203750Z
LAST-MODIFIED:20170822T203908Z
UID:2805-1506873600-1506873600@camposolonline.com
SUMMARY:VJK @ The Condado Club
DESCRIPTION:Soul and Motown legend VJK from The Gillettes is performing at The Condado Club on 1st October 2017 at 16:00. \n\n\n	Related\n
URL:http://camposolonline.com/event/condado-club-011017/
LOCATION:The Condado Club\, Condado de Alhama\, Carretera de Mazarrón\, km 33\, 30840 Alhama de Murcia\, Murcia\, Spain
END:VEVENT
END:VCALENDAR