BEGIN:VCALENDAR
VERSION:2.0
PRODID:-//Camposol Online - ECPv4.7.4//NONSGML v1.0//EN
CALSCALE:GREGORIAN
METHOD:PUBLISH
X-WR-CALNAME:Camposol Online
X-ORIGINAL-URL:http://camposolonline.com
X-WR-CALDESC:Events for Camposol Online
BEGIN:VEVENT
DTSTART;TZID=Europe/Madrid:20171115T193000
DTEND;TZID=Europe/Madrid:20171115T193000
DTSTAMP:20260423T171329
CREATED:20171003T202140Z
LAST-MODIFIED:20171003T202345Z
UID:4032-1510774200-1510774200@camposolonline.com
SUMMARY:Dance @ Mesón Mariano
DESCRIPTION:Welcome Group are holding their monthly dance at Mesón Mariano on 15th November 2017 from 19:30\, with live music by Rob Lewis and Sandy Fitz. \nTickets cost 12 euro and are available from the group’s meetings\, by calling Steve on 697 960 590 or by emailing welcomegroupspain@yahoo.com \n\n\n	Related\n
URL:http://camposolonline.com/event/dance-meson-mariano-151117/
LOCATION:Mesón Mariano\, Calle Madrid S/N\, Urbanización Camposol Sector A\, El Saladillo\, 30875 Mazarrón\, Murcia\, Spain
END:VEVENT
END:VCALENDAR