BEGIN:VCALENDAR
VERSION:2.0
PRODID:-//Camposol Online - ECPv4.7.4//NONSGML v1.0//EN
CALSCALE:GREGORIAN
METHOD:PUBLISH
X-WR-CALNAME:Camposol Online
X-ORIGINAL-URL:http://camposolonline.com
X-WR-CALDESC:Events for Camposol Online
BEGIN:VEVENT
DTSTART;TZID=Europe/Madrid:20180127T210000
DTEND;TZID=Europe/Madrid:20180127T210000
DTSTAMP:20260424T123316
CREATED:20180103T062907Z
LAST-MODIFIED:20180103T074044Z
UID:5514-1517086800-1517086800@camposolonline.com
SUMMARY:Danny Fisher @ Bar Med
DESCRIPTION:Danny Fisher is performing a tribute to Elvis Presley at Bar Med on 27th January 2018 21:00. \n\n\n	Related\n
URL:http://camposolonline.com/event/danny-fisher-bar-med-270118/
LOCATION:Bar Med\, Avenida de Cabo Cope\, El Alamillo\, Puerto de Mazarrón\, 30860 Mazarrón\, Murcia\, Spain
END:VEVENT
END:VCALENDAR