BEGIN:VCALENDAR
VERSION:2.0
PRODID:-//Camposol Online - ECPv4.7.4//NONSGML v1.0//EN
CALSCALE:GREGORIAN
METHOD:PUBLISH
X-WR-CALNAME:Camposol Online
X-ORIGINAL-URL:http://camposolonline.com
X-WR-CALDESC:Events for Camposol Online
BEGIN:VEVENT
DTSTART;TZID=Europe/Madrid:20180324T210000
DTEND;TZID=Europe/Madrid:20180324T210000
DTSTAMP:20260424T055955
CREATED:20180321T144258Z
LAST-MODIFIED:20180321T144258Z
UID:6557-1521925200-1521925200@camposolonline.com
SUMMARY:Danny Ray @ Bar Med
DESCRIPTION:Danny Ray is performing at Bar Med on 24th March 2018 from 21:00. \n\n\n	Related\n
URL:http://camposolonline.com/event/danny-ray-bar-med-240318/
LOCATION:Bar Med\, Avenida de Cabo Cope\, El Alamillo\, Puerto de Mazarrón\, 30860 Mazarrón\, Murcia\, Spain
END:VEVENT
END:VCALENDAR