BEGIN:VCALENDAR
VERSION:2.0
PRODID:-//Camposol Online - ECPv4.7.4//NONSGML v1.0//EN
CALSCALE:GREGORIAN
METHOD:PUBLISH
X-WR-CALNAME:Camposol Online
X-ORIGINAL-URL:http://camposolonline.com
X-WR-CALDESC:Events for Camposol Online
BEGIN:VEVENT
DTSTART;TZID=UTC:20170805T203000
DTEND;TZID=UTC:20170805T235900
DTSTAMP:20260423T205253
CREATED:20170803T081329Z
LAST-MODIFIED:20170808T130028Z
UID:2065-1501965000-1501977540@camposolonline.com
SUMMARY:Darren Jones with DJ Bernie Mac @ Cat's Bar & Tel's Bar
DESCRIPTION:Singer Darren Jones will be performing live on Saturday\, 5th August 2017\, at Cat’s Bar and Tel’s Bar\, along with Saturday night regular DJ Bernie Mac. \nThere will be a BBQ provided by Country Kitchen\, and you can reserve a seat for 1€. \n\n\n	Related\n
URL:http://camposolonline.com/event/darren-jones-dj-bernie-mac/
LOCATION:Cat’s Bar & Tel’s Bar\, Centro Comercial\, Urbanización Camposol Sector A\, El Saladillo\, 30875 Mazarrón\, Murcia\, Spain
END:VEVENT
END:VCALENDAR