BEGIN:VCALENDAR
VERSION:2.0
PRODID:-//Camposol Online - ECPv4.7.4//NONSGML v1.0//EN
CALSCALE:GREGORIAN
METHOD:PUBLISH
X-WR-CALNAME:Camposol Online
X-ORIGINAL-URL:http://camposolonline.com
X-WR-CALDESC:Events for Camposol Online
BEGIN:VEVENT
DTSTART;TZID=Europe/Madrid:20171202T210000
DTEND;TZID=Europe/Madrid:20171202T210000
DTSTAMP:20260423T183130
CREATED:20171118T061211Z
LAST-MODIFIED:20171118T061211Z
UID:5008-1512248400-1512248400@camposolonline.com
SUMMARY:David John @ Bar Med
DESCRIPTION:David John is performing at Bar Med on 2nd December 2017 from 21:00. \n\n\n	Related\n
URL:http://camposolonline.com/event/david-john-bar-med-021217/
LOCATION:Bar Med\, Avenida de Cabo Cope\, El Alamillo\, Puerto de Mazarrón\, 30860 Mazarrón\, Murcia\, Spain
END:VEVENT
END:VCALENDAR