BEGIN:VCALENDAR
VERSION:2.0
PRODID:-//Camposol Online - ECPv4.7.4//NONSGML v1.0//EN
CALSCALE:GREGORIAN
METHOD:PUBLISH
X-WR-CALNAME:Camposol Online
X-ORIGINAL-URL:http://camposolonline.com
X-WR-CALDESC:Events for Camposol Online
BEGIN:VEVENT
DTSTART;TZID=Europe/Madrid:20171118T200000
DTEND;TZID=Europe/Madrid:20171118T200000
DTSTAMP:20260424T104304
CREATED:20171025T054423Z
LAST-MODIFIED:20171025T054423Z
UID:4536-1511035200-1511035200@camposolonline.com
SUMMARY:Disco & Karaoke @ Black Bull
DESCRIPTION:There’s a disco and karaoke at Black Bull on 18th November 2017 from 20:00. \n\n\n	Related\n
URL:http://camposolonline.com/event/disco-karaoke-black-bull-181117/
LOCATION:Black Bull\, Centro Comercial\, Urbanización Camposol Sector B\, El Saladillo\, 30875 Mazarrón\, Murcia\, Spain
END:VEVENT
END:VCALENDAR