BEGIN:VCALENDAR
VERSION:2.0
PRODID:-//Camposol Online - ECPv4.7.4//NONSGML v1.0//EN
CALSCALE:GREGORIAN
METHOD:PUBLISH
X-WR-CALNAME:Camposol Online
X-ORIGINAL-URL:http://camposolonline.com
X-WR-CALDESC:Events for Camposol Online
BEGIN:VEVENT
DTSTART;TZID=Europe/Madrid:20171103T200000
DTEND;TZID=Europe/Madrid:20171103T200000
DTSTAMP:20260423T165711
CREATED:20171004T134212Z
LAST-MODIFIED:20171004T194420Z
UID:4089-1509739200-1509739200@camposolonline.com
SUMMARY:Ed Temple @ Mesón Mariano
DESCRIPTION:Mazarrón Bahía Lions Club present Ed Temple’s comedy hypnosis show on 3rd November 2017 from 20:00. \nTickets cost 6 euro and can be purchased by calling 622 467 497 or by visiting the Mazarrón Bahía Lions Club’s stall at the market on Sector B on Fridays. \n\n\n	Related\n
URL:http://camposolonline.com/event/ed-temple-meson-mariano-031117/
LOCATION:Mesón Mariano\, Calle Madrid S/N\, Urbanización Camposol Sector A\, El Saladillo\, 30875 Mazarrón\, Murcia\, Spain
END:VEVENT
END:VCALENDAR