BEGIN:VCALENDAR
VERSION:2.0
PRODID:-//Camposol Online - ECPv4.7.4//NONSGML v1.0//EN
CALSCALE:GREGORIAN
METHOD:PUBLISH
X-WR-CALNAME:Camposol Online
X-ORIGINAL-URL:http://camposolonline.com
X-WR-CALDESC:Events for Camposol Online
BEGIN:VEVENT
DTSTART;TZID=Europe/Madrid:20180221T200000
DTEND;TZID=Europe/Madrid:20180221T200000
DTSTAMP:20260423T171330
CREATED:20180113T204008Z
LAST-MODIFIED:20180113T204008Z
UID:5822-1519243200-1519243200@camposolonline.com
SUMMARY:Ed Temple & Stevie Spit @ Restaurant Sofia
DESCRIPTION:Restaurant Sofia are hosting a comedy night with hypnotist Ed Temple and drag comedy act Stevie Spit on 21st February 2018 from 20:00. \nTickets cost 10 euros and can be purchased by calling Nigel on 605 180 894. \n\n\n	Related\n
URL:http://camposolonline.com/event/ed-temple-stevie-spit-restaurant-sofia-210218/
LOCATION:Condado de Alhama\, Condado de Alhama\, Carretera de Mazarrón\, km 33\, 30840 Alhama de Murcia\, Murcia\, Spain
END:VEVENT
END:VCALENDAR