BEGIN:VCALENDAR
VERSION:2.0
PRODID:-//Camposol Online - ECPv4.7.4//NONSGML v1.0//EN
CALSCALE:GREGORIAN
METHOD:PUBLISH
X-WR-CALNAME:Camposol Online
X-ORIGINAL-URL:http://camposolonline.com
X-WR-CALDESC:Events for Camposol Online
BEGIN:VEVENT
DTSTART;TZID=Europe/Madrid:20180220T200000
DTEND;TZID=Europe/Madrid:20180220T200000
DTSTAMP:20260423T171559
CREATED:20180113T203536Z
LAST-MODIFIED:20180113T203536Z
UID:5820-1519156800-1519156800@camposolonline.com
SUMMARY:Elvis Karaoke @ Bokao Family Bar
DESCRIPTION:Bokao Family Bar are hosting an Elvis-themed karaoke on 20th February 2018 from 20:00\, on the run up to the Winter Sun Elvis Festival. Choose an Elvis tribute act and sing with them! \n\n\n	Related\n
URL:http://camposolonline.com/event/elvis-karaoke-bokao-family-bar-200218/
LOCATION:Bokao Family Bar\, Al Kasar\, Condado de Alhama\, Carretera de Mazarrón\, km 33\, 30840 Alhama de Murcia\, Murcia\, Spain
END:VEVENT
END:VCALENDAR