BEGIN:VCALENDAR
VERSION:2.0
PRODID:-//Camposol Online - ECPv4.7.4//NONSGML v1.0//EN
CALSCALE:GREGORIAN
METHOD:PUBLISH
X-WR-CALNAME:Camposol Online
X-ORIGINAL-URL:http://camposolonline.com
X-WR-CALDESC:Events for Camposol Online
BEGIN:VEVENT
DTSTART;TZID=Europe/Madrid:20180222T200000
DTEND;TZID=Europe/Madrid:20180222T200000
DTSTAMP:20260423T171608
CREATED:20180113T204513Z
LAST-MODIFIED:20180113T204513Z
UID:5824-1519329600-1519329600@camposolonline.com
SUMMARY:ETA Legends @ The Clover Bar
DESCRIPTION:The Clover Bar are hosting a three-hour show of Elvis tribute acts paying tribute to other legendary artists such as Meatloaf on 22nd February 2018 from 20:00. \nTickets cost 7.50 euros and can be purchased by calling Nigel on 605 180 894. \n\n\n	Related\n
URL:http://camposolonline.com/event/eta-legends-clover-bar-220218/
LOCATION:The Clover Bar\, Al Kasar\, Condado de Alhama\, Carretera de Mazarrón\, km 33\, 30840 Alhama de Murcia\, Murcia\, Spain
END:VEVENT
END:VCALENDAR