BEGIN:VCALENDAR
VERSION:2.0
PRODID:-//Camposol Online - ECPv4.7.4//NONSGML v1.0//EN
CALSCALE:GREGORIAN
METHOD:PUBLISH
X-WR-CALNAME:Camposol Online
X-ORIGINAL-URL:http://camposolonline.com
X-WR-CALDESC:Events for Camposol Online
BEGIN:VEVENT
DTSTART;TZID=Europe/Madrid:20171118T110000
DTEND;TZID=Europe/Madrid:20171118T150000
DTSTAMP:20260424T074427
CREATED:20171003T193729Z
LAST-MODIFIED:20171003T194015Z
UID:4016-1511002800-1511017200@camposolonline.com
SUMMARY:FAST Christmas Fayre @ Mesón Mariano
DESCRIPTION:FAST are holding their annual christmas fayre at Mesón Mariano on 18th November 2017 from 11:00. \n\n\n	Related\n
URL:http://camposolonline.com/event/fast-christmas-fayre-meson-mariano-181117/
LOCATION:Mesón Mariano\, Calle Madrid S/N\, Urbanización Camposol Sector A\, El Saladillo\, 30875 Mazarrón\, Murcia\, Spain
END:VEVENT
END:VCALENDAR