BEGIN:VCALENDAR
VERSION:2.0
PRODID:-//Camposol Online - ECPv4.7.4//NONSGML v1.0//EN
CALSCALE:GREGORIAN
METHOD:PUBLISH
X-WR-CALNAME:Camposol Online
X-ORIGINAL-URL:http://camposolonline.com
X-WR-CALDESC:Events for Camposol Online
BEGIN:VEVENT
DTSTART;TZID=Europe/Madrid:20171224T120000
DTEND;TZID=Europe/Madrid:20171224T120000
DTSTAMP:20260423T171453
CREATED:20171118T061910Z
LAST-MODIFIED:20171118T061910Z
UID:5012-1514116800-1514116800@camposolonline.com
SUMMARY:Father Christmas @ Bar Med
DESCRIPTION:Father Christmas and his Elf will be making an appearance at Bar Med‘s Grotto on 24th December 2017 from 12:00.  \nThere will be mince pies\, and live entertainment by GNT. \n\n\n	Related\n
URL:http://camposolonline.com/event/father-christmas-bar-med-241217/
LOCATION:Bar Med\, Avenida de Cabo Cope\, El Alamillo\, Puerto de Mazarrón\, 30860 Mazarrón\, Murcia\, Spain
END:VEVENT
END:VCALENDAR