BEGIN:VCALENDAR
VERSION:2.0
PRODID:-//Camposol Online - ECPv4.7.4//NONSGML v1.0//EN
CALSCALE:GREGORIAN
METHOD:PUBLISH
X-WR-CALNAME:Camposol Online
X-ORIGINAL-URL:http://camposolonline.com
X-WR-CALDESC:Events for Camposol Online
BEGIN:VEVENT
DTSTART;VALUE=DATE:20171021
DTEND;VALUE=DATE:20171023
DTSTAMP:20260424T025535
CREATED:20171004T205548Z
LAST-MODIFIED:20171004T205548Z
UID:4110-1508544000-1508716799@camposolonline.com
SUMMARY:Feria @ Alhama de Murcia
DESCRIPTION:Alhama de Murcia’s annual feria kicks off on 6th October 2017\, and if previous years are anything to go by\, it’s set to be a fun-filled fortnight with plenty to see and do for all ages. View programme »\n\n\n	Related\n
URL:http://camposolonline.com/event/feria-alhama-de-murcia-2017-ii/
LOCATION:Alhama de Murcia\, Alhama de Murcia\, Murcia\, Spain
END:VEVENT
END:VCALENDAR