BEGIN:VCALENDAR
VERSION:2.0
PRODID:-//Camposol Online - ECPv4.7.4//NONSGML v1.0//EN
CALSCALE:GREGORIAN
METHOD:PUBLISH
X-WR-CALNAME:Camposol Online
X-ORIGINAL-URL:http://camposolonline.com
X-WR-CALDESC:Events for Camposol Online
BEGIN:VEVENT
DTSTART;VALUE=DATE:20171201
DTEND;VALUE=DATE:20171211
DTSTAMP:20260423T183658
CREATED:20171202T082220Z
LAST-MODIFIED:20171202T082220Z
UID:5281-1512086400-1512950399@camposolonline.com
SUMMARY:Fiestas Patronales @ Mazarrón
DESCRIPTION:Mazarrón’s annual Fiestas Patronales takes place between 1st and 10th December to honour the Virgin of the Immaculate Conception\, and celebrate Constitution Day. Click here to view schedule. \n\n\n	Related\n
URL:http://camposolonline.com/event/fiestas-patronales-mazarron-2017/
END:VEVENT
END:VCALENDAR