BEGIN:VCALENDAR
VERSION:2.0
PRODID:-//Camposol Online - ECPv4.7.4//NONSGML v1.0//EN
CALSCALE:GREGORIAN
METHOD:PUBLISH
X-WR-CALNAME:Camposol Online
X-ORIGINAL-URL:http://camposolonline.com
X-WR-CALDESC:Events for Camposol Online
BEGIN:VEVENT
DTSTART;TZID=Europe/Madrid:20180121T150000
DTEND;TZID=Europe/Madrid:20180121T150000
DTSTAMP:20260423T211837
CREATED:20180103T070945Z
LAST-MODIFIED:20180115T195413Z
UID:5525-1516546800-1516546800@camposolonline.com
SUMMARY:The Geckos @ The Blues House
DESCRIPTION:The Geckos are performing at The Blues House on 21st January 2018 from 15:00. \n\n\n	Related\n
URL:http://camposolonline.com/event/geckos-blues-house-210118/
LOCATION:The Blues House\, Avenida Pedro López Meca 26\, Bolnuevo\, 30870 Mazarrón\, Murcia\, Spain
END:VEVENT
END:VCALENDAR