BEGIN:VCALENDAR
VERSION:2.0
PRODID:-//Camposol Online - ECPv4.7.4//NONSGML v1.0//EN
CALSCALE:GREGORIAN
METHOD:PUBLISH
X-WR-CALNAME:Camposol Online
X-ORIGINAL-URL:http://camposolonline.com
X-WR-CALDESC:Events for Camposol Online
BEGIN:VEVENT
DTSTART;TZID=Europe/Madrid:20180325T150000
DTEND;TZID=Europe/Madrid:20180325T150000
DTSTAMP:20260424T025706
CREATED:20180321T142227Z
LAST-MODIFIED:20180321T142259Z
UID:6542-1521990000-1521990000@camposolonline.com
SUMMARY:The Geckos @ The Blues House
DESCRIPTION:The Geckos are performing at The Blues House on 25th March 2018 from 15:00. \n\n\n	Related\n
URL:http://camposolonline.com/event/geckos-blues-house-250318/
LOCATION:The Blues House\, Avenida Pedro López Meca 26\, Bolnuevo\, 30870 Mazarrón\, Murcia\, Spain
END:VEVENT
END:VCALENDAR