BEGIN:VCALENDAR
VERSION:2.0
PRODID:-//Camposol Online - ECPv4.7.4//NONSGML v1.0//EN
CALSCALE:GREGORIAN
METHOD:PUBLISH
X-WR-CALNAME:Camposol Online
X-ORIGINAL-URL:http://camposolonline.com
X-WR-CALDESC:Events for Camposol Online
BEGIN:VEVENT
DTSTART;TZID=Europe/Madrid:20171215T213000
DTEND;TZID=Europe/Madrid:20171215T213000
DTSTAMP:20260423T205125
CREATED:20171121T204753Z
LAST-MODIFIED:20171121T204753Z
UID:5066-1513373400-1513373400@camposolonline.com
SUMMARY:The Geckos @ Oscar’s Bar
DESCRIPTION:The Geckos are playing at Oscar’s Bar on 15th December 2017 from 21:30. \n\n\n	Related\n
URL:http://camposolonline.com/event/geckos-oscars-bar-151217/
LOCATION:Oscar’s Bar\, Centro Comercial\, Urbanización Camposol Sector B\, El Saladillo\, 30875 Mazarrón\, Murcia\, Spain
END:VEVENT
END:VCALENDAR