BEGIN:VCALENDAR
VERSION:2.0
PRODID:-//Camposol Online - ECPv4.7.4//NONSGML v1.0//EN
CALSCALE:GREGORIAN
METHOD:PUBLISH
X-WR-CALNAME:Camposol Online
X-ORIGINAL-URL:http://camposolonline.com
X-WR-CALDESC:Events for Camposol Online
BEGIN:VEVENT
DTSTART;TZID=Europe/Madrid:20180323T210000
DTEND;TZID=Europe/Madrid:20180323T210000
DTSTAMP:20260424T071941
CREATED:20180321T152645Z
LAST-MODIFIED:20180321T152645Z
UID:6574-1521838800-1521838800@camposolonline.com
SUMMARY:The Geckos @ Oscar’s Bar
DESCRIPTION:The Geckos are performing at Oscar’s Bar on 23rd March 2018 from 21:00. \n\n\n	Related\n
URL:http://camposolonline.com/event/geckos-oscars-bar-230318/
LOCATION:Oscar’s Bar\, Centro Comercial\, Urbanización Camposol Sector B\, El Saladillo\, 30875 Mazarrón\, Murcia\, Spain
END:VEVENT
END:VCALENDAR