BEGIN:VCALENDAR
VERSION:2.0
PRODID:-//Camposol Online - ECPv4.7.4//NONSGML v1.0//EN
CALSCALE:GREGORIAN
METHOD:PUBLISH
X-WR-CALNAME:Camposol Online
X-ORIGINAL-URL:http://camposolonline.com
X-WR-CALDESC:Events for Camposol Online
BEGIN:VEVENT
DTSTART;TZID=Europe/Madrid:20171224T210000
DTEND;TZID=Europe/Madrid:20171224T210000
DTSTAMP:20260423T195149
CREATED:20170829T205403Z
LAST-MODIFIED:20170829T205403Z
UID:2991-1514149200-1514149200@camposolonline.com
SUMMARY:GNT @ The Club House
DESCRIPTION:GNT is performing at The Club House on 24th December 2017. \n\n\n	Related\n
URL:http://camposolonline.com/event/gnt-club-house-241217/
LOCATION:The Club House\, Camposol Club de Golf\, Urbanización Camposol Sector C\, El Saladillo\, 30875 Mazarrón\, Murcia\, Spain
END:VEVENT
END:VCALENDAR