BEGIN:VCALENDAR
VERSION:2.0
PRODID:-//Camposol Online - ECPv4.7.4//NONSGML v1.0//EN
CALSCALE:GREGORIAN
METHOD:PUBLISH
X-WR-CALNAME:Camposol Online
X-ORIGINAL-URL:http://camposolonline.com
X-WR-CALDESC:Events for Camposol Online
BEGIN:VEVENT
DTSTART;TZID=Europe/Madrid:20171226T213000
DTEND;TZID=Europe/Madrid:20171226T213000
DTSTAMP:20260423T210858
CREATED:20171112T203037Z
LAST-MODIFIED:20171112T203037Z
UID:4927-1514323800-1514323800@camposolonline.com
SUMMARY:Greg Bannis @ The Clover Bar
DESCRIPTION:Greg Bannis is performing at The Clover Bar on 26th December 2017 from 21:30. \n\n\n	Related\n
URL:http://camposolonline.com/event/greg-bannis-clover-bar-261217/
LOCATION:The Clover Bar\, Al Kasar\, Condado de Alhama\, Carretera de Mazarrón\, km 33\, 30840 Alhama de Murcia\, Murcia\, Spain
END:VEVENT
END:VCALENDAR