BEGIN:VCALENDAR
VERSION:2.0
PRODID:-//Camposol Online - ECPv4.7.4//NONSGML v1.0//EN
CALSCALE:GREGORIAN
METHOD:PUBLISH
X-WR-CALNAME:Camposol Online
X-ORIGINAL-URL:http://camposolonline.com
X-WR-CALDESC:Events for Camposol Online
BEGIN:VEVENT
DTSTART;TZID=Europe/Madrid:20171101T193000
DTEND;TZID=Europe/Madrid:20171101T193000
DTSTAMP:20260424T010631
CREATED:20170914T203712Z
LAST-MODIFIED:20170914T203712Z
UID:3339-1509564600-1509564600@camposolonline.com
SUMMARY:Halloween BBQ @ The Club House
DESCRIPTION:Camposol Fiesta Committee are holding a Halloween BBQ at The Club House on 1st November 2017 at 19:30. There will be live entertainment by Byron Greenaway and prizes for the best fancy dress. \nTickets cost 15 EUR and are available from the Fiesta stall every Friday between 10:30 and 12:30\, or by emailing camposolfiesta2017@gmail.com. Vegetarian option available if pre-ordered. \n\n\n	Related\n
URL:http://camposolonline.com/event/halloween-bbq-club-house-011117/
LOCATION:The Club House\, Camposol Club de Golf\, Urbanización Camposol Sector C\, El Saladillo\, 30875 Mazarrón\, Murcia\, Spain
END:VEVENT
END:VCALENDAR