BEGIN:VCALENDAR
VERSION:2.0
PRODID:-//Camposol Online - ECPv4.7.4//NONSGML v1.0//EN
CALSCALE:GREGORIAN
METHOD:PUBLISH
X-WR-CALNAME:Camposol Online
X-ORIGINAL-URL:http://camposolonline.com
X-WR-CALDESC:Events for Camposol Online
BEGIN:VEVENT
DTSTART;TZID=Europe/Madrid:20171031T193000
DTEND;TZID=Europe/Madrid:20171031T193000
DTSTAMP:20260424T042154
CREATED:20171003T195020Z
LAST-MODIFIED:20171004T124848Z
UID:4019-1509478200-1509478200@camposolonline.com
SUMMARY:Halloween Dinner & Dance @ Mazarrón Country Club
DESCRIPTION:Mazarrón Country Club Events Group are holding a Halloween party at the salon on Mazarrón Country Club on 31st October 2027 from 19:30. \nTickets cost 17.50 euro for members and 20 euro for non-members\, and include dinner plus entertainment. Fancy dress optional. \nCall Tony on 968 956 418\, Vivien on 968 956 050 or Angela on 968 956 414 for tickets\, or visit the Mazarrón Country Club Library on Tuesdays and Thursdays between 14:00 and 16:00. \n\n\n	Related\n
URL:http://camposolonline.com/event/halloween-dinner-dance-mazarron-country-club-311017/
LOCATION:Mazarrón Country Club\, 30879 Mazarrón\, Murcia\, Spain
END:VEVENT
END:VCALENDAR