BEGIN:VCALENDAR
VERSION:2.0
PRODID:-//Camposol Online - ECPv4.7.4//NONSGML v1.0//EN
CALSCALE:GREGORIAN
METHOD:PUBLISH
X-WR-CALNAME:Camposol Online
X-ORIGINAL-URL:http://camposolonline.com
X-WR-CALDESC:Events for Camposol Online
BEGIN:VEVENT
DTSTART;TZID=Europe/Madrid:20171031T200000
DTEND;TZID=Europe/Madrid:20171031T200000
DTSTAMP:20260424T022950
CREATED:20171004T125203Z
LAST-MODIFIED:20171004T125203Z
UID:4079-1509480000-1509480000@camposolonline.com
SUMMARY:Halloween Disco @ Black Bull
DESCRIPTION:Black Bull are holding a Halloween disco on 31st October 2017 from 20:00.  \nEntry is free\, and there will be a free buffet plus a costume competition with prizes for best male and female. \n\n\n	Related\n
URL:http://camposolonline.com/event/halloween-disco-black-bull-311017/
LOCATION:Black Bull\, Centro Comercial\, Urbanización Camposol Sector B\, El Saladillo\, 30875 Mazarrón\, Murcia\, Spain
END:VEVENT
END:VCALENDAR