BEGIN:VCALENDAR
VERSION:2.0
PRODID:-//Camposol Online - ECPv4.7.4//NONSGML v1.0//EN
CALSCALE:GREGORIAN
METHOD:PUBLISH
X-WR-CALNAME:Camposol Online
X-ORIGINAL-URL:http://camposolonline.com
X-WR-CALDESC:Events for Camposol Online
BEGIN:VEVENT
DTSTART;TZID=Europe/Madrid:20171031T190000
DTEND;TZID=Europe/Madrid:20171031T190000
DTSTAMP:20260424T071021
CREATED:20171004T125601Z
LAST-MODIFIED:20171004T125601Z
UID:4083-1509476400-1509476400@camposolonline.com
SUMMARY:Halloween Disco @ Diversity Golf Club
DESCRIPTION:Diversity Golf Club are holding a Halloween disco on 31st October 2017 from 19:00.  \nEntry is free\, although booking is advised. \n\n\n	Related\n
URL:http://camposolonline.com/event/halloween-disco-diversity-golf-club-311017/
LOCATION:Diversity Golf Club\, Condado de Alhama\, Carretera de Mazarrón\, km 33\, 30840 Alhama de Murcia\, Murcia\, Spain
END:VEVENT
END:VCALENDAR