BEGIN:VCALENDAR
VERSION:2.0
PRODID:-//Camposol Online - ECPv4.7.4//NONSGML v1.0//EN
CALSCALE:GREGORIAN
METHOD:PUBLISH
X-WR-CALNAME:Camposol Online
X-ORIGINAL-URL:http://camposolonline.com
X-WR-CALDESC:Events for Camposol Online
BEGIN:VEVENT
DTSTART;TZID=Europe/Madrid:20171031T190000
DTEND;TZID=Europe/Madrid:20171031T190000
DTSTAMP:20260424T055433
CREATED:20170914T204410Z
LAST-MODIFIED:20170914T204410Z
UID:3341-1509476400-1509476400@camposolonline.com
SUMMARY:Halloween Party @ Bar Med
DESCRIPTION:Bar Med are hosting a Halloween party on 31st October 2017 at 19:00. There will be a free finger buffet and a prize for everyone in fancy dress. Live entertainment provided by Randall Cain. \n\n\n	Related\n
URL:http://camposolonline.com/event/halloween-party-bar-med-311017/
LOCATION:Bar Med\, Avenida de Cabo Cope\, El Alamillo\, Puerto de Mazarrón\, 30860 Mazarrón\, Murcia\, Spain
END:VEVENT
END:VCALENDAR