BEGIN:VCALENDAR
VERSION:2.0
PRODID:-//Camposol Online - ECPv4.7.4//NONSGML v1.0//EN
CALSCALE:GREGORIAN
METHOD:PUBLISH
X-WR-CALNAME:Camposol Online
X-ORIGINAL-URL:http://camposolonline.com
X-WR-CALDESC:Events for Camposol Online
BEGIN:VEVENT
DTSTART;TZID=Europe/Madrid:20171030T193000
DTEND;TZID=Europe/Madrid:20171030T193000
DTSTAMP:20260423T234629
CREATED:20171004T125429Z
LAST-MODIFIED:20171004T125429Z
UID:4081-1509391800-1509391800@camposolonline.com
SUMMARY:Halloween Party @ The Blues House
DESCRIPTION:The Blues House are hosting a Halloween party on 30th October 2017 from 19:30. \nEntry costs 10 euro per person (booking advised) and includes a three-course meal\, karaoke and a spooky Halloween fayre. Fancy dress optional. \n\n\n	Related\n
URL:http://camposolonline.com/event/halloween-party-blues-house-301017/
LOCATION:The Blues House\, Avenida Pedro López Meca 26\, Bolnuevo\, 30870 Mazarrón\, Murcia\, Spain
END:VEVENT
END:VCALENDAR