BEGIN:VCALENDAR
VERSION:2.0
PRODID:-//Camposol Online - ECPv4.7.4//NONSGML v1.0//EN
CALSCALE:GREGORIAN
METHOD:PUBLISH
X-WR-CALNAME:Camposol Online
X-ORIGINAL-URL:http://camposolonline.com
X-WR-CALDESC:Events for Camposol Online
BEGIN:VEVENT
DTSTART;VALUE=DATE:20171031
DTEND;VALUE=DATE:20171101
DTSTAMP:20260424T023317
CREATED:20171024T191716Z
LAST-MODIFIED:20171024T191716Z
UID:4518-1509408000-1509494399@camposolonline.com
SUMMARY:Halloween Party @ Hospedería Rural Los Balcones
DESCRIPTION:Hospedería Rural Los Balcones are hosting a Halloween party on 31st October. \nThere will be a 7 km night hike\, soup and a gift for 5 euros per person. Dinner is available for an additional 10 euros\, or you can have all of the above plus an overnight stay with breakfast the next morning for 35 euros. Call 653 272 040 to book your place. \n\n\n	Related\n
URL:http://camposolonline.com/event/halloween-party-hospederia-rural-los-balcones-311017/
LOCATION:Hospedería Rural Los Balcones\, Paraje los Balcones 187\, Cañadas del Romero\, 30858 Mazarrón\, Murcia\, Spain
END:VEVENT
END:VCALENDAR